BEGIN:VCALENDAR
VERSION:2.0
PRODID:-//Grupul Skepsis - ECPv6.15.20//NONSGML v1.0//EN
CALSCALE:GREGORIAN
METHOD:PUBLISH
X-WR-CALNAME:Grupul Skepsis
X-ORIGINAL-URL:https://teatrulskepsis.ro
X-WR-CALDESC:Evenimente pentru Grupul Skepsis
REFRESH-INTERVAL;VALUE=DURATION:PT1H
X-Robots-Tag:noindex
X-PUBLISHED-TTL:PT1H
BEGIN:VTIMEZONE
TZID:Europe/Bucharest
BEGIN:DAYLIGHT
TZOFFSETFROM:+0200
TZOFFSETTO:+0300
TZNAME:EEST
DTSTART:20250330T010000
END:DAYLIGHT
BEGIN:STANDARD
TZOFFSETFROM:+0300
TZOFFSETTO:+0200
TZNAME:EET
DTSTART:20251026T010000
END:STANDARD
BEGIN:DAYLIGHT
TZOFFSETFROM:+0200
TZOFFSETTO:+0300
TZNAME:EEST
DTSTART:20260329T010000
END:DAYLIGHT
BEGIN:STANDARD
TZOFFSETFROM:+0300
TZOFFSETTO:+0200
TZNAME:EET
DTSTART:20261025T010000
END:STANDARD
BEGIN:DAYLIGHT
TZOFFSETFROM:+0200
TZOFFSETTO:+0300
TZNAME:EEST
DTSTART:20270328T010000
END:DAYLIGHT
BEGIN:STANDARD
TZOFFSETFROM:+0300
TZOFFSETTO:+0200
TZNAME:EET
DTSTART:20271031T010000
END:STANDARD
END:VTIMEZONE
BEGIN:VEVENT
DTSTART;TZID=Europe/Bucharest:20260129T190000
DTEND;TZID=Europe/Bucharest:20260129T203000
DTSTAMP:20260425T020312
CREATED:20260123T103041Z
LAST-MODIFIED:20260125T195104Z
UID:4236-1769713200-1769718600@teatrulskepsis.ro
SUMMARY:ÎNTÂLNIRE PRIN CORESPONDENȚĂ
DESCRIPTION:Un spectacol creat după una dintre cele mai cunoscute piese ale lui Eric-Emmanuel Schmitt\, autor contemporan care se bucură de o largă popularitate și ale cărui opere sunt prezentate în întreaga lume! \nÎn spectacolul „Întâlnire prin Corespondenţă” urmărim pas cu pas evoluţia unei situaţii în care nu știm în ce măsură aparențele înșală sau nu. Ironiile fine\, umorul\, conflictele\, raporturile care se nasc și se construiesc treptat între personaje\, transformă o întâlnire banală într-o situație care face măștile să dispară și ne obligă să fim sinceri. \n„Am dorit ca primul nostru spectacol din acest an să fie unul sensibil\, încărcat de emoție. Nu lipsesc întorsăturile de situaţie\, umorul fin și momentele în care povestea personajelor ne arată încă o dată că sufletele noastre poartă povara alegerilor pe care le facem în viață și că nu ne putem elibera decât abandonând egoul…” – Viorel Cioflică – Coordonator. \nBiletele (30 lei pt adulți; 15 lei pentru elevi\, studenți și pensionari) pot fi achiziționate de la secretariatul Casei de Cultură a Studenților începând de luni\, 26.01.2026\, între orele 10.00-15.00 sau în ziua prezentării spectcolului până la ora 18.30 – fondurile obținute sunt direcționate spre susținerea proiectului cultural ”Stagiunea cu Skepsis 2026”. \nEvenimentul este organizat în cadrul #yoUthNITED Alba Iulia Capitala Tineretului 2026\, fiind prezentat în cadrul proiectului ”Stagiunea cu Skepsis 2026” – un proiect care urmăreşte implicarea tineretului în diversificarea ofertei cultural-artistice a oraşului şi participarea civică la viaţa socioculturală. Prin acest proiect Grupul Skepsis formează tineri actori\, dezvoltă colaborări cu artişti din ţară şi din străinătate\, pregăteşte şi oferă în mod riguros şi sistematic publicului albaiulian spectacole de teatru şi divertisment pe întreg parcursul anului. \nParteneri și Colaboratori: Primăria Municipiului Alba Iulia; Casa de Cultură a Studenţilor Alba Iulia; Fundaţia „Inter-Art” Aiud; Muzeul Național al Unirii Alba Iulia\, Biblioteca Județeană Lucian Blaga” Alba.
URL:https://teatrulskepsis.ro/eveniment/intalnire-prin-corespondenta/
LOCATION:Casa de Cultură a Studenților Alba Iulia\, str. Ardealului\, nr. 1\, Alba Iulia\, Alba\, Romania
ATTACH;FMTTYPE=image/jpeg:https://teatrulskepsis.ro/wp-content/uploads/2026/01/DSC_0103-2-scaled.jpg
END:VEVENT
END:VCALENDAR