BEGIN:VCALENDAR
VERSION:2.0
PRODID:-//Grupul Skepsis - ECPv6.15.20//NONSGML v1.0//EN
CALSCALE:GREGORIAN
METHOD:PUBLISH
X-WR-CALNAME:Grupul Skepsis
X-ORIGINAL-URL:https://teatrulskepsis.ro
X-WR-CALDESC:Evenimente pentru Grupul Skepsis
REFRESH-INTERVAL;VALUE=DURATION:PT1H
X-Robots-Tag:noindex
X-PUBLISHED-TTL:PT1H
BEGIN:VTIMEZONE
TZID:Europe/Bucharest
BEGIN:DAYLIGHT
TZOFFSETFROM:+0200
TZOFFSETTO:+0300
TZNAME:EEST
DTSTART:20240331T010000
END:DAYLIGHT
BEGIN:STANDARD
TZOFFSETFROM:+0300
TZOFFSETTO:+0200
TZNAME:EET
DTSTART:20241027T010000
END:STANDARD
BEGIN:DAYLIGHT
TZOFFSETFROM:+0200
TZOFFSETTO:+0300
TZNAME:EEST
DTSTART:20250330T010000
END:DAYLIGHT
BEGIN:STANDARD
TZOFFSETFROM:+0300
TZOFFSETTO:+0200
TZNAME:EET
DTSTART:20251026T010000
END:STANDARD
BEGIN:DAYLIGHT
TZOFFSETFROM:+0200
TZOFFSETTO:+0300
TZNAME:EEST
DTSTART:20260329T010000
END:DAYLIGHT
BEGIN:STANDARD
TZOFFSETFROM:+0300
TZOFFSETTO:+0200
TZNAME:EET
DTSTART:20261025T010000
END:STANDARD
END:VTIMEZONE
BEGIN:VEVENT
DTSTART;TZID=Europe/Bucharest:20251118T190000
DTEND;TZID=Europe/Bucharest:20251118T200000
DTSTAMP:20260425T051354
CREATED:20251111T215503Z
LAST-MODIFIED:20251111T215624Z
UID:3049-1763492400-1763496000@teatrulskepsis.ro
SUMMARY:CERERE ÎN CĂSĂTORIE
DESCRIPTION:Spectacolul „Cerere în Căsătorie”\, după A.P. Cehov\, este construit pe baza uneia dintre piesele într-un singur act ale autorului\, care satirizează convenienţa cu care era tratată căsătoria în epoca sa. În pofida simplităţii intrigii Cehov reuşeşte să creeze câteva personaje pe care le putem recunoaşte şi astăzi în lumea din jur\, prin motivaţiile\, intenţiile şi comportamentele lor. \n”Oferim publicului o comedie savuroasã într-o zi de toamnă târzie pentru a ne încălzi sufletele cu bună dispoziție delectându-ne cu umorul specific teatrului cehovian. Un spectacol drag din repertoriul companiei noastre\, pe care îl rejucăm mereu cu bucurie.” – Viorel Cioflică . \nBiletele (20 lei pt adulți; 10 lei pt elevi\, studenți\, pensionari\, copii) pot fi achiziționate de la secretariatul Casei de Cultură a Studenților începând de Miercuri\, 13.11.2025\, între orele 09.00-15.00 și Marți\, 18.11.2025 până la ora 18.30. \n            Evenimentul este prezentat în cadrul proiectului Stagiunea cu Skepsis 2025 – un proiect care urmăreşte implicarea tineretului în diversificarea ofertei cultural-artistice a oraşului şi participarea civică la viaţa socioculturală. Prin acest proiect Grupul Skepsis formează tineri actori\, dezvoltă colaborări cu artişti din ţară şi din străinătate\, pregăteşte şi oferă în mod riguros şi sistematic publicului albaiulian spectacole de teatru şi divertisment pe întreg parcursul anului. \nParteneri: Primăria Municipiului Alba Iulia; Casa de Cultură a Studenţilor Alba Iulia; Fundaţia „Inter-Art” Aiud; Muzeul Național al Unirii Alba Iulia; Biblioteca Județeană ”Lucian Blaga” Alba; Universitatea ”1 Decembrie 1918” Alba Iulia.
URL:https://teatrulskepsis.ro/eveniment/cerere-in-casatorie/
LOCATION:Casa de Cultură a Studenților Alba Iulia\, str. Ardealului\, nr. 1\, Alba Iulia\, Alba\, Romania
ATTACH;FMTTYPE=image/jpeg:https://teatrulskepsis.ro/wp-content/uploads/2025/11/DSC_0294-2-scaled.jpg
END:VEVENT
BEGIN:VEVENT
DTSTART;TZID=Europe/Bucharest:20251121T210000
DTEND;TZID=Europe/Bucharest:20251121T214000
DTSTAMP:20260425T051354
CREATED:20251119T104607Z
LAST-MODIFIED:20251119T104607Z
UID:3337-1763758800-1763761200@teatrulskepsis.ro
SUMMARY:APA DE HAVEL
DESCRIPTION:Compania de teatru SKEPSIS va prezenta Vineri\, 21 noiembrie\, ora 21.00\, la Cinema Modern\, Brasov\, spectacolul APA DE HAVEL\, după MAtei Vișniec\, o comedie în care umorul negru\, atmosfera ușor bizară și accentele absurde ale situației  provoacă publicul să găsească răspunsuri la întrebări proprii. \n-Într-un magazin de arme care se respectă poți găsi orice iar personalul e gata mereu să te ajute să găsești cea mai bună variantă. Nu e doar un simplu magazin de arme\, e un loc care oferă soluții la problemele clienților. Însă o zi obișnuită poate să-ți aducă în prag o persoană mai neobișnuită care parcă s-a născut să îți testeze inventivitatea. \nCu: Maria Cernea și Teodora Luca \nRegia: Viorel Cioflică \nSpectacolul este în cadrul Festivalului CooltFest\, ediția a III-a\, organizat de Casa de Cultură a Studenților Brașov în baza unui proiect inițiat de trupa de teatru Bacteria H. Evenimentul promovează cultura studențească și accesul liber la artă\, sub deviza: „E cool să fii cult!” \, este dedicat tinerilor pasionați de arta dramatică și reunește pe aceeași scenă trupe de teatru studențesc din întreaga țară\, oferind publicului brașovean spectacole pline de energie\, talent și emoție.  \nProgramul complet al festivalului AICI
URL:https://teatrulskepsis.ro/eveniment/apa-de-havel/
LOCATION:Cinema Modern Brasov\, Bulevardl Griviței\, nr 65\, Brașov\, Brașov\, Romania
CATEGORIES:festival
ATTACH;FMTTYPE=image/png:https://teatrulskepsis.ro/wp-content/uploads/2025/11/1763042247227-1.png
END:VEVENT
END:VCALENDAR