BEGIN:VCALENDAR
VERSION:2.0
PRODID:-//Grupul Skepsis - ECPv6.15.20//NONSGML v1.0//EN
CALSCALE:GREGORIAN
METHOD:PUBLISH
X-ORIGINAL-URL:https://teatrulskepsis.ro
X-WR-CALDESC:Evenimente pentru Grupul Skepsis
REFRESH-INTERVAL;VALUE=DURATION:PT1H
X-Robots-Tag:noindex
X-PUBLISHED-TTL:PT1H
BEGIN:VTIMEZONE
TZID:Europe/Bucharest
BEGIN:DAYLIGHT
TZOFFSETFROM:+0200
TZOFFSETTO:+0300
TZNAME:EEST
DTSTART:20240331T010000
END:DAYLIGHT
BEGIN:STANDARD
TZOFFSETFROM:+0300
TZOFFSETTO:+0200
TZNAME:EET
DTSTART:20241027T010000
END:STANDARD
BEGIN:DAYLIGHT
TZOFFSETFROM:+0200
TZOFFSETTO:+0300
TZNAME:EEST
DTSTART:20250330T010000
END:DAYLIGHT
BEGIN:STANDARD
TZOFFSETFROM:+0300
TZOFFSETTO:+0200
TZNAME:EET
DTSTART:20251026T010000
END:STANDARD
BEGIN:DAYLIGHT
TZOFFSETFROM:+0200
TZOFFSETTO:+0300
TZNAME:EEST
DTSTART:20260329T010000
END:DAYLIGHT
BEGIN:STANDARD
TZOFFSETFROM:+0300
TZOFFSETTO:+0200
TZNAME:EET
DTSTART:20261025T010000
END:STANDARD
END:VTIMEZONE
BEGIN:VEVENT
DTSTART;TZID=Europe/Bucharest:20251002T160000
DTEND;TZID=Europe/Bucharest:20251006T220000
DTSTAMP:20260425T064648
CREATED:20250914T001813Z
LAST-MODIFIED:20250924T230012Z
UID:1000-1759420800-1759788000@teatrulskepsis.ro
SUMMARY:APOLLO - Festival Internațional de Teatru 2025
DESCRIPTION:În perioada 02-06 octombrie 2025\, la Alba Iulia\, Grupul Skepsis organizează la Alba Iulia cea de-a XI-a ediție a Festivalului Internațional de Teatru APOLLO\, dedicat teatrului tânăr și independent. Evenimentul reunește artiști liberi\, grupuri și companii artistice independente și teatre instituționalizate din: Finlanda\, Elvetia\, Lituania\, Polonia\, Ucraina\, Moldova\, Ungaria\, Italia\, Tunisia\, Quatar și România. \nCe ne propune ediția a XI- a ?Festivalul este dedicat tututor celor tineri la suflet\, remarcându-se prin caracterul multicultural și oferind invitaților și publicului șansa de a urmări și aprecia în diferite spații\, o serie de 14 spectacole și evenimente artistice diverse ca și concept\, gen și abordare.\n\nParticipă la ediția din acest an :\n\nLUOGO IN BUIO (IT)TAVOLE DA PALCOSCENICO (IT)\nBELOE (CH)ARTTERRA (FI)Anykščiai Theater (LT)UTHENA Chamber Theatre (LT)SŪDUVA (PL)TND ”B.P HAȘDEU” (MD)MASKAM RAD (UA)ART DES DEUX RIVES PROD (TN)MFG – Art Dance Space (HU)JOUSOUR PROD (QA)TEATRUL 21 (RO)BLITZ (RO)SKEPSIS (RO)\n\nInvitați speciali:JOKE ELBERS (Amsterdam\, NL)\n\nÎn spiritul deschiderii față de arte și promovării interculturalității\, APOLLO va include în program proiecții de film scurt\, recitaluri muzicale și tururi ghidate și sesiuni de feedback critic pentru participanți coordonate de Dr. Joke Elbers (Amsterdam\, ND)\nÎn afara spectacolelor de teatru\, festivalul propune participanților și publicului și un eveniment inedit: expoziția de pictură ”ULTIMUL TABLOU – LINIȘTEA DE DUPĂ FURTUNĂ” prezentată sub egida Arta în Penitenciar în parteneriat cu Fundația ”Inter-Art” Aiud și Penitenciarul Arad – curator: Ștefan Balog (Președinte\, Fundația ”Inter-Art” Aiud)\n\nProgramul detaliat al evenimentului va fi anunțat în curând!\n\nAccesul spectatorilor este liber la toate evenimentele din program în limita capacității spațiilor de prezentare\, cu excepția activităților dedicate exclusiv artiștilor participanți.\n\n\n\nFestivalul este finanțat ca și proiect cultural din sponsorizări și resurse proprii ale Asociației Grupul Skepsis și este organizat cu susținerea mai multor instituţii și organizaţii locale implicate ca Parteneri : Primăria Municipiului Alba Iulia; Casa de Cultură a Studenţilor Alba Iulia; Muzeul Naţional al Unirii Alba Iulia și Consiliul Județean Alba; Centrul Cultural Palatul Principilor ; Fundaţia “Inter-Art” Aiud.\n\nContribuțiile partenerilor sunt cuantificate în servicii\, singura contribuție financiară în bani la implementarea proiectului fiind adusă de către Primăria Municipului Alba Iulia\, care acoperă 25% din valoarea totală a proiectului – contribuția fiind acordată după ce organizatorul efectuează toate cheltuielile din resurse proprii și prezintă raportul narativ și financiar.\n\nGrație eforturilor Asociației Grupul Skepsis\, începând din anul 2023 festivalul Apollo face parte dintr-un circuit european de evenimente și este co-finanțat prin proiectul cultural internațional LOCUS – Sinergii Culturale Urbane Locale\, programul Europa Creativă\, dedicat dezvoltării evenimentelor și creșterii audienței\, monitorizării și analizei modului în care instituțiile locale\, agenții media și mediul de afaceri local se implică și susțin inițiativele culturale ale societății civile și a operatorilor culturali independenți.\nOpiniile și perspectivele exprimate aparțin în întregime autorilor și nu reflectă în mod necesar cele ale Uniunii Europene sau EACEA. Uniunea Europeană sau autoritatea responsabilă pentru grant nu sunt responsabile pentru acestea.\n\nSponsor: Solina România
URL:https://teatrulskepsis.ro/eveniment/apollo-festival-international-de-teatru-2025/
LOCATION:Casa de Cultură a Studenților Alba Iulia\, str. Ardealului\, nr. 1\, Alba Iulia\, Alba\, Romania
CATEGORIES:festival
ATTACH;FMTTYPE=image/jpeg:https://teatrulskepsis.ro/wp-content/uploads/2025/09/494197038_1504721707625076_9139434246060913536_n.jpg
ORGANIZER;CN="Grupul Skepsis":MAILTO:teatruskepsis@yahoo.com
END:VEVENT
BEGIN:VEVENT
DTSTART;TZID=Europe/Bucharest:20251028T190000
DTEND;TZID=Europe/Bucharest:20251028T200000
DTSTAMP:20260425T064648
CREATED:20251021T140952Z
LAST-MODIFIED:20251021T141632Z
UID:3019-1761678000-1761681600@teatrulskepsis.ro
SUMMARY:FARMACIA
DESCRIPTION:Trupa de teatru Skepsis vă prezintă spectacolul ”Farmacia”\, creat  de Viorel Cioflică pe baza unui text scurt de Eugen Ionescu. \nUn simplu client intră într-o simplă farmacie căutând un remediu la o problemă cu care se confruntă. O farmacistă simplă încearcă să înțeleagă natura problemei\, însă cu cât pune mai multe întrebări situația devine din ce în ce mai confuză. Nici un răspuns nu ajută la lămurirea problemei și misiunea farmacistei este din ce în ce mai dificilă. Și unde este doctorul atunci când ai nevoie?…O comedie în care paradoxul și ironia teatrului absurdului aduc în discuție teme actuale din prezentul pe care îl trăim – superficialitatea comunicării\, dificultatea de a crea relații autentice cu ceilalți\, dezumanizarea individului. \n”Spectacolul a fost prezentat recent la două festivaluri internaționale de teatru la care SKEPSIS a participat în Lituania\, bucurându-se de o foarte bună primire din partea publicului\, experții invitați apreciind în mod deosebit punerea în scenă\, interpretarea și respectarea parametrilor specifici ai genului. Ne întoarcem pe scena de acasă și oferim acum acest spectacol specatatorilor noștri\, care suntem siguri că îl vor savura pe deplin!” – Viorel Cioflică \nBiletele (20 lei pt adulți; 10 lei pt elevi\, studenți pensionari) pot fi achiziționate de la secretariatul Casei de Cultură a Studenților începând de Joi\, 23.10.2025\, între orele 09.00-15.00 și în ziua spectacolului până la ora 18.30. Fndurile obținute sunt folosite pentru susținerea proiectului cultural ”Stagiunea cu Skepsis 2025”. \nEvenimentul este prezentat în cadrul proiectului cultural ”Stagiunea cu Skepsis 2025” – un proiect care urmăreşte diversificarea ofertei cultural-artistice a oraşului\, implicarea tinerilor şi participarea civică la viaţa socioculturală. Prin acest proiect Grupul Skepsis formează tineri actori\, dezvoltă colaborări cu artişti din ţară şi din străinătate\, pregăteşte şi oferă în mod riguros şi sistematic publicului albaiulian spectacole de teatru şi divertisment pe întreg parcursul anului. \nParteneri: Primăria Municipiului Alba Iulia; Casa de Cultură a Studenţilor Alba Iulia; Fundaţia „Inter-Art” Aiud; Muzeul Național al Unirii Alba Iulia; Biblioteca Județeană ”Lucian Blaga” Alba; Universitatea ”1 Decembrie 1918” Alba Iulia.
URL:https://teatrulskepsis.ro/eveniment/farmacia/
LOCATION:Casa de Cultură a Studenților Alba Iulia\, str. Ardealului\, nr. 1\, Alba Iulia\, Alba\, Romania
ATTACH;FMTTYPE=image/jpeg:https://teatrulskepsis.ro/wp-content/uploads/2025/10/farmacia-1.jpg
ORGANIZER;CN="Grupul Skepsis":MAILTO:teatruskepsis@yahoo.com
END:VEVENT
END:VCALENDAR