BEGIN:VCALENDAR
VERSION:2.0
PRODID:-//Grupul Skepsis - ECPv6.15.20//NONSGML v1.0//EN
CALSCALE:GREGORIAN
METHOD:PUBLISH
X-WR-CALNAME:Grupul Skepsis
X-ORIGINAL-URL:https://teatrulskepsis.ro
X-WR-CALDESC:Evenimente pentru Grupul Skepsis
REFRESH-INTERVAL;VALUE=DURATION:PT1H
X-Robots-Tag:noindex
X-PUBLISHED-TTL:PT1H
BEGIN:VTIMEZONE
TZID:Europe/Bucharest
BEGIN:DAYLIGHT
TZOFFSETFROM:+0200
TZOFFSETTO:+0300
TZNAME:EEST
DTSTART:20240331T010000
END:DAYLIGHT
BEGIN:STANDARD
TZOFFSETFROM:+0300
TZOFFSETTO:+0200
TZNAME:EET
DTSTART:20241027T010000
END:STANDARD
BEGIN:DAYLIGHT
TZOFFSETFROM:+0200
TZOFFSETTO:+0300
TZNAME:EEST
DTSTART:20250330T010000
END:DAYLIGHT
BEGIN:STANDARD
TZOFFSETFROM:+0300
TZOFFSETTO:+0200
TZNAME:EET
DTSTART:20251026T010000
END:STANDARD
BEGIN:DAYLIGHT
TZOFFSETFROM:+0200
TZOFFSETTO:+0300
TZNAME:EEST
DTSTART:20260329T010000
END:DAYLIGHT
BEGIN:STANDARD
TZOFFSETFROM:+0300
TZOFFSETTO:+0200
TZNAME:EET
DTSTART:20261025T010000
END:STANDARD
END:VTIMEZONE
BEGIN:VEVENT
DTSTART;TZID=Europe/Bucharest:20250328T190000
DTEND;TZID=Europe/Bucharest:20250328T210000
DTSTAMP:20260425T182742
CREATED:20250327T202230Z
LAST-MODIFIED:20250327T202352Z
UID:365-1743188400-1743195600@teatrulskepsis.ro
SUMMARY:OSCAR
DESCRIPTION:Vă prezentăm spectacolul OSCAR\, după C.Magnier – un spectacol de comedie de care avem nevoie pentru a face haz de necazul…altuia!… Cu un ritm susținut și un umor spumos\, povestea ne face martori la o zi din viața d-lui Barnier\, un milionar obișnuit să câștige mereu dar care de această dată va avea de luptat cu un adversar care nu cedează: soarta și celebra ei ironie! \n\n\n\n\nBiletele (20 lei pt adulți; 10 lei pt elevi\, studenți și pensionari) pot fi achiziționate de la secretariatul Casei de Cultură a Studenților începând de joi\, 20.03.2025\, între orele 09.00-15.00. \nEvenimentul este prezentat în cadrul proiectului cultural ”Stagiunea cu Skepsis 2025” organizat de Grupul Skepsis. \nParteneri: Primăria Municipiului Alba Iulia; Casa de Cultură a Studenţilor Alba Iulia; Fundaţia „Inter-Art” Aiud; Muzeul Național al Unirii Alba Iulia; Biblioteca Județeană ”Lucian Blaga” Alba; Universitatea ”1 Decembrie 1918” Alba Iulia. \nhttps://teatrulskepsis.ro/wp-content/uploads/2025/03/MP4_20250314_192707VLOG-1.mp4
URL:https://teatrulskepsis.ro/eveniment/oscar/
LOCATION:Casa de Cultură a Studenților Alba Iulia\, str. Ardealului\, nr. 1\, Alba Iulia\, Alba\, Romania
ATTACH;FMTTYPE=image/jpeg:https://teatrulskepsis.ro/wp-content/uploads/2025/03/WhatsApp-Image-2025-03-19-at-12.04.08_4e135f7e-1086x1536-1.jpg
ORGANIZER;CN="Grupul Skepsis":MAILTO:teatruskepsis@yahoo.com
END:VEVENT
END:VCALENDAR