BEGIN:VCALENDAR
VERSION:2.0
PRODID:-//Grupul Skepsis - ECPv6.15.20//NONSGML v1.0//EN
CALSCALE:GREGORIAN
METHOD:PUBLISH
X-WR-CALNAME:Grupul Skepsis
X-ORIGINAL-URL:https://teatrulskepsis.ro
X-WR-CALDESC:Evenimente pentru Grupul Skepsis
REFRESH-INTERVAL;VALUE=DURATION:PT1H
X-Robots-Tag:noindex
X-PUBLISHED-TTL:PT1H
BEGIN:VTIMEZONE
TZID:Europe/Bucharest
BEGIN:DAYLIGHT
TZOFFSETFROM:+0200
TZOFFSETTO:+0300
TZNAME:EEST
DTSTART:20250330T010000
END:DAYLIGHT
BEGIN:STANDARD
TZOFFSETFROM:+0300
TZOFFSETTO:+0200
TZNAME:EET
DTSTART:20251026T010000
END:STANDARD
BEGIN:DAYLIGHT
TZOFFSETFROM:+0200
TZOFFSETTO:+0300
TZNAME:EEST
DTSTART:20260329T010000
END:DAYLIGHT
BEGIN:STANDARD
TZOFFSETFROM:+0300
TZOFFSETTO:+0200
TZNAME:EET
DTSTART:20261025T010000
END:STANDARD
BEGIN:DAYLIGHT
TZOFFSETFROM:+0200
TZOFFSETTO:+0300
TZNAME:EEST
DTSTART:20270328T010000
END:DAYLIGHT
BEGIN:STANDARD
TZOFFSETFROM:+0300
TZOFFSETTO:+0200
TZNAME:EET
DTSTART:20271031T010000
END:STANDARD
END:VTIMEZONE
BEGIN:VEVENT
DTSTART;TZID=Europe/Bucharest:20260424T180000
DTEND;TZID=Europe/Bucharest:20260424T184000
DTSTAMP:20260424T224610
CREATED:20260405T200845Z
LAST-MODIFIED:20260405T200845Z
UID:4485-1777053600-1777056000@teatrulskepsis.ro
SUMMARY:APA DE HAVEL
DESCRIPTION:Vineri\, 24 aprilie\, la Cloegiul Bethelen Gabor Aiud\, vă invităm la spectacolul APA DE HAVEL\, prezentat în cadrul Festivalului Internațional de Umor\, ediția 2026. \nConstruit pe baza unui text scurt de Matei Vișniec\, spectacolul este o comedie în care umorul negru\, atmosfera ușor bizară și accentele absurde ale situației provoacă publicul să găsească răspunsuri la întrebări proprii. Într-un magazin de arme care se respectă poți găsi orice iar personalul e gata mereu să te ajute să găsești cea mai bună variantă. Nu e doar un simplu magazin\, este un spațiu atemporal care oferă soluții sigure la problemele clienților. Un spațiu în care o zi obișnuită poate să-ți aducă în prag o persoană neobișnuită ce parcă s-a născut să îți testeze inventivitatea.
URL:https://teatrulskepsis.ro/eveniment/apa-de-havel-2/
ATTACH;FMTTYPE=image/jpeg:https://teatrulskepsis.ro/wp-content/uploads/2026/04/503574234_1273171344812444_3096351972733975623_n.jpg
END:VEVENT
END:VCALENDAR